BEGIN:VCALENDAR
VERSION:2.0
PRODID:-//Rockport Public Library - ECPv6.15.20//NONSGML v1.0//EN
CALSCALE:GREGORIAN
METHOD:PUBLISH
X-WR-CALNAME:Rockport Public Library
X-ORIGINAL-URL:https://www.rockportlibrary.net
X-WR-CALDESC:Events for Rockport Public Library
REFRESH-INTERVAL;VALUE=DURATION:PT1H
X-Robots-Tag:noindex
X-PUBLISHED-TTL:PT1H
BEGIN:VTIMEZONE
TZID:America/New_York
BEGIN:DAYLIGHT
TZOFFSETFROM:-0500
TZOFFSETTO:-0400
TZNAME:EDT
DTSTART:20250309T070000
END:DAYLIGHT
BEGIN:STANDARD
TZOFFSETFROM:-0400
TZOFFSETTO:-0500
TZNAME:EST
DTSTART:20251102T060000
END:STANDARD
BEGIN:DAYLIGHT
TZOFFSETFROM:-0500
TZOFFSETTO:-0400
TZNAME:EDT
DTSTART:20260308T070000
END:DAYLIGHT
BEGIN:STANDARD
TZOFFSETFROM:-0400
TZOFFSETTO:-0500
TZNAME:EST
DTSTART:20261101T060000
END:STANDARD
BEGIN:DAYLIGHT
TZOFFSETFROM:-0500
TZOFFSETTO:-0400
TZNAME:EDT
DTSTART:20270314T070000
END:DAYLIGHT
BEGIN:STANDARD
TZOFFSETFROM:-0400
TZOFFSETTO:-0500
TZNAME:EST
DTSTART:20271107T060000
END:STANDARD
END:VTIMEZONE
BEGIN:VEVENT
DTSTART;TZID=America/New_York:20260221T103000
DTEND;TZID=America/New_York:20260221T113000
DTSTAMP:20260424T061014
CREATED:20260123T210238Z
LAST-MODIFIED:20260123T222112Z
UID:10004346-1771669800-1771673400@www.rockportlibrary.net
SUMMARY:Saturday Morning Family Art Class
DESCRIPTION:Art and music for the whole family! The focus will be on local author/illustrator Stephen Costanza’s children’s book\, “Vivaldi and the Invisible Orchestra.” \n\n\n\nFamilies will interact with and recreate the artistic style of Costanza\, while studying his illustrations as they connect and move along with Vivaldi’s concertos and poetry. Learn more about Stephen Costanza’s picture books on his website: stephencostanza.com \n\n\n\nSpace is limited. Call 236-3642 to register. \n\n\n\nDon’t forget to join us on Saturday\, Feb. 28 for Multimedia Family Event: A Scott Joplin Celebration. CLICK HERE to learn more! Artwork from Costanza’s book King of Ragtime: The Story of Scott Joplin will be on view at the Rockport Library Feb. 3 – 28.
URL:https://www.rockportlibrary.net/event/saturday-morning-family-art-class-3/
CATEGORIES:Kids & Family
ATTACH;FMTTYPE=image/png:https://www.rockportlibrary.net/wp-content/uploads/february-art-class-2.png
END:VEVENT
BEGIN:VEVENT
DTSTART;TZID=America/New_York:20260223T133000
DTEND;TZID=America/New_York:20260223T143000
DTSTAMP:20260424T061014
CREATED:20250910T201326Z
LAST-MODIFIED:20250910T202028Z
UID:10003408-1771853400-1771857000@www.rockportlibrary.net
SUMMARY:French Conversation Group
DESCRIPTION:Parlez-vous français? Practice your French with friends and neighbors who are also fluent speakers. This group meets every Monday and Friday at 1:30 PM for approximately 60 min.
URL:https://www.rockportlibrary.net/event/french-conversation-group/2026-02-23/
LOCATION:Marine Room
CATEGORIES:Adults
ATTACH;FMTTYPE=image/jpeg:https://www.rockportlibrary.net/wp-content/uploads/frenchgroup-1.jpg
END:VEVENT
BEGIN:VEVENT
DTSTART;TZID=America/New_York:20260224T100000
DTEND;TZID=America/New_York:20260224T113000
DTSTAMP:20260424T061014
CREATED:20250910T195828Z
LAST-MODIFIED:20250910T195829Z
UID:10001705-1771927200-1771932600@www.rockportlibrary.net
SUMMARY:Discussion Group
DESCRIPTION:This group is open to discussing all viewpoints and ideas. Topics are typically related to local\, national\, and global current events. This group meets every Tuesday at 10:00 AM for 60 to 90 minutes.
URL:https://www.rockportlibrary.net/event/discussion-group/2026-02-24/
LOCATION:Marine Room
CATEGORIES:Adults
ATTACH;FMTTYPE=image/jpeg:https://www.rockportlibrary.net/wp-content/uploads/discussiongroup-1.jpg
END:VEVENT
BEGIN:VEVENT
DTSTART;TZID=America/New_York:20260226T130000
DTEND;TZID=America/New_York:20260226T150000
DTSTAMP:20260424T061014
CREATED:20250910T195524Z
LAST-MODIFIED:20250910T195525Z
UID:10001443-1772110800-1772118000@www.rockportlibrary.net
SUMMARY:Bridge
DESCRIPTION:Stop by to play this fun and challenging classic card game. Players of all levels are welcome. This group meets on Thursdays\, at 1:00 PM.
URL:https://www.rockportlibrary.net/event/bridge/2026-02-26/
CATEGORIES:Adults
ATTACH;FMTTYPE=image/jpeg:https://www.rockportlibrary.net/wp-content/uploads/bridgegroup-1.jpg
END:VEVENT
BEGIN:VEVENT
DTSTART;TZID=America/New_York:20260226T160000
DTEND;TZID=America/New_York:20260226T170000
DTSTAMP:20260424T061014
CREATED:20250910T201103Z
LAST-MODIFIED:20251113T211300Z
UID:10003674-1772121600-1772125200@www.rockportlibrary.net
SUMMARY:Tech Help Hour
DESCRIPTION:Just drop in during our Tech Help Hour\, and a staff member will assist you with whatever your tech needs are. We can help with anything from basic computer questions to using your IPad with the Maine Download Library. This free service is offered every Thursday at 4:00 PM.
URL:https://www.rockportlibrary.net/event/tech-help-hour/2026-02-26/
LOCATION:Marine Room
CATEGORIES:Adults
ATTACH;FMTTYPE=image/jpeg:https://www.rockportlibrary.net/wp-content/uploads/tech-help.jpg
END:VEVENT
BEGIN:VEVENT
DTSTART;TZID=America/New_York:20260227T100000
DTEND;TZID=America/New_York:20260227T113000
DTSTAMP:20260424T061014
CREATED:20250910T200301Z
LAST-MODIFIED:20250910T200302Z
UID:10002230-1772186400-1772191800@www.rockportlibrary.net
SUMMARY:Mahjong
DESCRIPTION:Mahjong or mah-jongg (English pronunciation: mah-JONG) is a tile-based game that was developed in the 19th century in China and has spread throughout the world since the early 20th century. It is commonly played by four players (with some three-player variations). This group meets on Fridays\, at 10:00 AM for approximately 90-120 minutes.
URL:https://www.rockportlibrary.net/event/mahjong/2026-02-27/
LOCATION:Rockport Room (Lower Level)
CATEGORIES:Adults
ATTACH;FMTTYPE=image/jpeg:https://www.rockportlibrary.net/wp-content/uploads/mahjonggroup-1.jpg
END:VEVENT
BEGIN:VEVENT
DTSTART;TZID=America/New_York:20260227T133000
DTEND;TZID=America/New_York:20260227T143000
DTSTAMP:20260424T061014
CREATED:20250910T201326Z
LAST-MODIFIED:20250910T202028Z
UID:10002885-1772199000-1772202600@www.rockportlibrary.net
SUMMARY:French Conversation Group
DESCRIPTION:Parlez-vous français? Practice your French with friends and neighbors who are also fluent speakers. This group meets every Monday and Friday at 1:30 PM for approximately 60 min.
URL:https://www.rockportlibrary.net/event/french-conversation-group/2026-02-27/
LOCATION:Marine Room
CATEGORIES:Adults
ATTACH;FMTTYPE=image/jpeg:https://www.rockportlibrary.net/wp-content/uploads/frenchgroup-1.jpg
END:VEVENT
BEGIN:VEVENT
DTSTART;TZID=America/New_York:20260228T100000
DTEND;TZID=America/New_York:20260228T113000
DTSTAMP:20260424T061014
CREATED:20251120T152040Z
LAST-MODIFIED:20251120T175423Z
UID:10004067-1772272800-1772278200@www.rockportlibrary.net
SUMMARY:Ancient Greek for Beginners
DESCRIPTION:Have you ever wanted to read The Odyssey or the New Testament in the original language? By the end of this fast-paced 10-week course\, you will be able to read and write (and speak!) basic sentences in Ancient Greek as it was spoken in Athens around 500 BCE. (It will not help you order a coffee in Greece!) This course is open to all ages and is ideal for those who have never studied Ancient Greek before. \n\n\n\nAbout the Instructor: \n\n\n\nElizabeth Ogle recently earned her master’s in Greek and Latin Languages & Literature from Oxford University\, where she focused on Greek tragedy and the Underworld. She performed in the first Greek play ever to be staged in the original language and with reconstructed Ancient Greek music\, instruments\, and masks. She has over four years of assistant teaching experience across all age groups. \n\n\n\nSPACE IN THE CLASS IS LIMITED. PLEASE CALL THE LIBRARY AT 207-236-3642 TO SIGN UP. \n\n\n\nPhoto info: Picture of Elizabeth Ogle taken on Aegina at the temple of Aphaia.
URL:https://www.rockportlibrary.net/event/ancient-greek-for-beginners/2026-02-28/
CATEGORIES:Adults,Tweens & Teens
ATTACH;FMTTYPE=image/jpeg:https://www.rockportlibrary.net/wp-content/uploads/ag-fb-event.jpg
END:VEVENT
BEGIN:VEVENT
DTSTART;TZID=America/New_York:20260228T103000
DTEND;TZID=America/New_York:20260228T113000
DTSTAMP:20260424T061014
CREATED:20260127T174712Z
LAST-MODIFIED:20260127T174713Z
UID:10004347-1772274600-1772278200@www.rockportlibrary.net
SUMMARY:Multimedia Family Event: A Scott Joplin Celebration!
DESCRIPTION:In honor of Black History Month\, the Rockport Public Library will feature a month-long exhibit entitled\, A Scott Joplin Celebration! From Feb. 3 through 28\, the public is invited to view original artwork\, sketches\, sketchbooks\, book prototypes\, sheet music\, and more from acclaimed author/illustrator Stephen Costanza’s book King of Ragtime: The Story of Scott Joplin. \n\n\n\nThe material featured in the exhibit will explore the life of beloved African American composer Scott Joplin\, whose joyful and irrepressible ragtime music paved the way for jazz.  \n\n\n\nOn Saturday\, Feb. 28\, at 10:30 a.m.\, a Multimedia Family Show will complement the exhibit. Costanza will provide a dynamic\, music-filled presentation that offers a behind-the-scenes look at the process for creating his book about Scott Joplin. Books will be available for purchase at the event. \n\n\n\nYouth Librarian Stephanie Curcione encourages families to explore other beautifully illustrated\, musically-influenced books by Costanza. On Saturday\, Feb. 21\, at 10:30 a.m.\, Curcione will lead families in the creation of art inspired by Costanza’s book Vivaldi and the Invisible Orchestra. Space is limited. Call the library at 207-236-3642 to register. CLICK HERE to learn more. \n\n\n\nStephen Costanza has written and illustrated numerous picture books\, including Mozart Finds A Melody and the recent When Auggie Learned to Play Chess. His book King of Ragtime: The Story of Scott Joplin received starred reviews from Kirkus Reviews\, Booklist\, and Publisher’s Weekly\, and was the recipient of the 2022 Golden Kite Award for illustration by the Society of Children’s Book Writers and Illustrators. He lives in North Haven\, Maine. \n\n\n\nLearn more about Stephen Costanza on his website\, stephencostanza.com.
URL:https://www.rockportlibrary.net/event/multimedia-family-event-a-scott-joplin-celebration/
CATEGORIES:Adults,Kids & Family,Tweens & Teens
ATTACH;FMTTYPE=image/jpeg:https://www.rockportlibrary.net/wp-content/uploads/sc-event-fb.jpg
END:VEVENT
BEGIN:VEVENT
DTSTART;TZID=America/New_York:20260302T133000
DTEND;TZID=America/New_York:20260302T143000
DTSTAMP:20260424T061014
CREATED:20250910T201326Z
LAST-MODIFIED:20250910T202028Z
UID:10003409-1772458200-1772461800@www.rockportlibrary.net
SUMMARY:French Conversation Group
DESCRIPTION:Parlez-vous français? Practice your French with friends and neighbors who are also fluent speakers. This group meets every Monday and Friday at 1:30 PM for approximately 60 min.
URL:https://www.rockportlibrary.net/event/french-conversation-group/2026-03-02/
LOCATION:Marine Room
CATEGORIES:Adults
ATTACH;FMTTYPE=image/jpeg:https://www.rockportlibrary.net/wp-content/uploads/frenchgroup-1.jpg
END:VEVENT
BEGIN:VEVENT
DTSTART;TZID=America/New_York:20260303T100000
DTEND;TZID=America/New_York:20260303T113000
DTSTAMP:20260424T061014
CREATED:20250910T195828Z
LAST-MODIFIED:20250910T195829Z
UID:10001706-1772532000-1772537400@www.rockportlibrary.net
SUMMARY:Discussion Group
DESCRIPTION:This group is open to discussing all viewpoints and ideas. Topics are typically related to local\, national\, and global current events. This group meets every Tuesday at 10:00 AM for 60 to 90 minutes.
URL:https://www.rockportlibrary.net/event/discussion-group/2026-03-03/
LOCATION:Marine Room
CATEGORIES:Adults
ATTACH;FMTTYPE=image/jpeg:https://www.rockportlibrary.net/wp-content/uploads/discussiongroup-1.jpg
END:VEVENT
BEGIN:VEVENT
DTSTART;TZID=America/New_York:20260303T150000
DTEND;TZID=America/New_York:20260303T170000
DTSTAMP:20260424T061014
CREATED:20251113T210739Z
LAST-MODIFIED:20251113T210739Z
UID:10004045-1772550000-1772557200@www.rockportlibrary.net
SUMMARY:Fiber Arts
DESCRIPTION:Do you knit\, spin\, crochet\, embroider\, felt\, or practice other types of fiber arts? Would you like to work on your projects alongside other like-minded enthusiasts? This lively group is a great place to ask questions\, share tips\, and enjoy the company of other fiber artists. Meets on 1st\, 3rd\, and 5th Tuesdays (when there is a 5th Tuesday!) at 3:00 p.m. in the library’s lower level. New members are always welcome.
URL:https://www.rockportlibrary.net/event/fiber-arts-2/2026-03-03/
ATTACH;FMTTYPE=image/jpeg:https://www.rockportlibrary.net/wp-content/uploads/fiberartsgroup.jpg
END:VEVENT
BEGIN:VEVENT
DTSTART;TZID=America/New_York:20260304T130000
DTEND;TZID=America/New_York:20260304T140000
DTSTAMP:20260424T061014
CREATED:20260212T144810Z
LAST-MODIFIED:20260212T144922Z
UID:10004376-1772629200-1772632800@www.rockportlibrary.net
SUMMARY:Curious About a Plant-Based Diet?
DESCRIPTION:The next program in the Rockport Public Library’s “Let’s Feel Better in 2026” series will be held on Wednesday\, Mar. 4\, at 1 p.m. Nancy Albertson\, certified Plant-Based Coach with Food Revolution Network\, will give an interactive presentation for those who are curious about how and why to incorporate more plant-based foods into their diet. \n\n\n\nThe event is free\, open to the public\, and will include a few delicious plant-based snacks for attendees to sample. The library will also have plant-based cookbooks readily on hand for inspired attendees to borrow. \n\n\n\nAlbertson is part of the group Plant Powered MAINE\, which was formed to support those currently practicing a plant-based lifestyle or anyone that is looking to embark on a plant-based wellness journey. The group facilitates gatherings\, potlucks\, documentary screenings\, and more. 
URL:https://www.rockportlibrary.net/event/curious-about-a-plant-based-diet/
CATEGORIES:Adults
ATTACH;FMTTYPE=image/jpeg:https://www.rockportlibrary.net/wp-content/uploads/plant-fb-2.jpg
END:VEVENT
BEGIN:VEVENT
DTSTART;TZID=America/New_York:20260305T130000
DTEND;TZID=America/New_York:20260305T150000
DTSTAMP:20260424T061014
CREATED:20250910T195524Z
LAST-MODIFIED:20250910T195525Z
UID:10001444-1772715600-1772722800@www.rockportlibrary.net
SUMMARY:Bridge
DESCRIPTION:Stop by to play this fun and challenging classic card game. Players of all levels are welcome. This group meets on Thursdays\, at 1:00 PM.
URL:https://www.rockportlibrary.net/event/bridge/2026-03-05/
CATEGORIES:Adults
ATTACH;FMTTYPE=image/jpeg:https://www.rockportlibrary.net/wp-content/uploads/bridgegroup-1.jpg
END:VEVENT
BEGIN:VEVENT
DTSTART;TZID=America/New_York:20260305T160000
DTEND;TZID=America/New_York:20260305T170000
DTSTAMP:20260424T061014
CREATED:20250910T201103Z
LAST-MODIFIED:20251113T211300Z
UID:10003675-1772726400-1772730000@www.rockportlibrary.net
SUMMARY:Tech Help Hour
DESCRIPTION:Just drop in during our Tech Help Hour\, and a staff member will assist you with whatever your tech needs are. We can help with anything from basic computer questions to using your IPad with the Maine Download Library. This free service is offered every Thursday at 4:00 PM.
URL:https://www.rockportlibrary.net/event/tech-help-hour/2026-03-05/
LOCATION:Marine Room
CATEGORIES:Adults
ATTACH;FMTTYPE=image/jpeg:https://www.rockportlibrary.net/wp-content/uploads/tech-help.jpg
END:VEVENT
BEGIN:VEVENT
DTSTART;TZID=America/New_York:20260305T160000
DTEND;TZID=America/New_York:20260305T171500
DTSTAMP:20260424T061014
CREATED:20250910T200659Z
LAST-MODIFIED:20250910T202830Z
UID:10002625-1772726400-1772730900@www.rockportlibrary.net
SUMMARY:Poets' Corner
DESCRIPTION:The Rockport Public Library Poets’ Corner is a welcoming group of local poets of all ages and backgrounds. Email Bill Eberle at bill@wcedesign.com for more information. This group meets on 1st and 3rd Thursdays\, at 4:00 PM for approximately 60-90 minutes. Learn more about other poetry events in the area on the Midcoast Poetry Calendar: midcoastpoetrycalendar.com
URL:https://www.rockportlibrary.net/event/poets-corner/2026-03-05/
LOCATION:Marine Room
CATEGORIES:Adults
ATTACH;FMTTYPE=image/jpeg:https://www.rockportlibrary.net/wp-content/uploads/poetscorner_june2023sm-1.jpg
END:VEVENT
BEGIN:VEVENT
DTSTART;TZID=America/New_York:20260306T100000
DTEND;TZID=America/New_York:20260306T113000
DTSTAMP:20260424T061014
CREATED:20250910T200301Z
LAST-MODIFIED:20250910T200302Z
UID:10002231-1772791200-1772796600@www.rockportlibrary.net
SUMMARY:Mahjong
DESCRIPTION:Mahjong or mah-jongg (English pronunciation: mah-JONG) is a tile-based game that was developed in the 19th century in China and has spread throughout the world since the early 20th century. It is commonly played by four players (with some three-player variations). This group meets on Fridays\, at 10:00 AM for approximately 90-120 minutes.
URL:https://www.rockportlibrary.net/event/mahjong/2026-03-06/
LOCATION:Rockport Room (Lower Level)
CATEGORIES:Adults
ATTACH;FMTTYPE=image/jpeg:https://www.rockportlibrary.net/wp-content/uploads/mahjonggroup-1.jpg
END:VEVENT
BEGIN:VEVENT
DTSTART;TZID=America/New_York:20260306T133000
DTEND;TZID=America/New_York:20260306T143000
DTSTAMP:20260424T061014
CREATED:20250910T201326Z
LAST-MODIFIED:20250910T202028Z
UID:10002886-1772803800-1772807400@www.rockportlibrary.net
SUMMARY:French Conversation Group
DESCRIPTION:Parlez-vous français? Practice your French with friends and neighbors who are also fluent speakers. This group meets every Monday and Friday at 1:30 PM for approximately 60 min.
URL:https://www.rockportlibrary.net/event/french-conversation-group/2026-03-06/
LOCATION:Marine Room
CATEGORIES:Adults
ATTACH;FMTTYPE=image/jpeg:https://www.rockportlibrary.net/wp-content/uploads/frenchgroup-1.jpg
END:VEVENT
BEGIN:VEVENT
DTSTART;TZID=America/New_York:20260307T100000
DTEND;TZID=America/New_York:20260307T113000
DTSTAMP:20260424T061014
CREATED:20251120T152040Z
LAST-MODIFIED:20251120T175423Z
UID:10004068-1772877600-1772883000@www.rockportlibrary.net
SUMMARY:Ancient Greek for Beginners
DESCRIPTION:Have you ever wanted to read The Odyssey or the New Testament in the original language? By the end of this fast-paced 10-week course\, you will be able to read and write (and speak!) basic sentences in Ancient Greek as it was spoken in Athens around 500 BCE. (It will not help you order a coffee in Greece!) This course is open to all ages and is ideal for those who have never studied Ancient Greek before. \n\n\n\nAbout the Instructor: \n\n\n\nElizabeth Ogle recently earned her master’s in Greek and Latin Languages & Literature from Oxford University\, where she focused on Greek tragedy and the Underworld. She performed in the first Greek play ever to be staged in the original language and with reconstructed Ancient Greek music\, instruments\, and masks. She has over four years of assistant teaching experience across all age groups. \n\n\n\nSPACE IN THE CLASS IS LIMITED. PLEASE CALL THE LIBRARY AT 207-236-3642 TO SIGN UP. \n\n\n\nPhoto info: Picture of Elizabeth Ogle taken on Aegina at the temple of Aphaia.
URL:https://www.rockportlibrary.net/event/ancient-greek-for-beginners/2026-03-07/
CATEGORIES:Adults,Tweens & Teens
ATTACH;FMTTYPE=image/jpeg:https://www.rockportlibrary.net/wp-content/uploads/ag-fb-event.jpg
END:VEVENT
BEGIN:VEVENT
DTSTART;TZID=America/New_York:20260309T133000
DTEND;TZID=America/New_York:20260309T143000
DTSTAMP:20260424T061014
CREATED:20250910T201326Z
LAST-MODIFIED:20250910T202028Z
UID:10003410-1773063000-1773066600@www.rockportlibrary.net
SUMMARY:French Conversation Group
DESCRIPTION:Parlez-vous français? Practice your French with friends and neighbors who are also fluent speakers. This group meets every Monday and Friday at 1:30 PM for approximately 60 min.
URL:https://www.rockportlibrary.net/event/french-conversation-group/2026-03-09/
LOCATION:Marine Room
CATEGORIES:Adults
ATTACH;FMTTYPE=image/jpeg:https://www.rockportlibrary.net/wp-content/uploads/frenchgroup-1.jpg
END:VEVENT
BEGIN:VEVENT
DTSTART;TZID=America/New_York:20260310T100000
DTEND;TZID=America/New_York:20260310T113000
DTSTAMP:20260424T061014
CREATED:20250910T195828Z
LAST-MODIFIED:20250910T195829Z
UID:10001707-1773136800-1773142200@www.rockportlibrary.net
SUMMARY:Discussion Group
DESCRIPTION:This group is open to discussing all viewpoints and ideas. Topics are typically related to local\, national\, and global current events. This group meets every Tuesday at 10:00 AM for 60 to 90 minutes.
URL:https://www.rockportlibrary.net/event/discussion-group/2026-03-10/
LOCATION:Marine Room
CATEGORIES:Adults
ATTACH;FMTTYPE=image/jpeg:https://www.rockportlibrary.net/wp-content/uploads/discussiongroup-1.jpg
END:VEVENT
BEGIN:VEVENT
DTSTART;TZID=America/New_York:20260311T130000
DTEND;TZID=America/New_York:20260311T140000
DTSTAMP:20260424T061014
CREATED:20260209T221814Z
LAST-MODIFIED:20260226T205405Z
UID:10004375-1773234000-1773237600@www.rockportlibrary.net
SUMMARY:My Favorite Vegetables: Growing Gourmet
DESCRIPTION:Spring has nearly sprung\, which means it’s time to kick off the Rockport Public Library’s Spring Horticulture Talks\, in partnership with Merryspring Nature Center. The first presentation entitled\, “My Favorite Vegetables: Growing Gourmet\,” will take place on Wednesday\, Mar. 11\, at 1 p.m. in the library’s lower level. All programs in this series\, held monthly from March through June\, are free and open to the public. \n\n\n\nFrom 1998 to 2020\, John and Kathy Fromer grew gourmet vegetables for fine restaurants\, caterers\, B&B’s\, and markets. Selected for their taste and unique colors\, these vegetables were still warm from the garden when delivered. Varieties were chosen to thrive in midcoast Maine and provide bountiful harvests from a one-acre garden. Because they did not travel from afar\, the produce had excellent shelf life and maintained their flavor and nutritional value.   \n\n\n\nJohn Fromer will discuss these selections and provide tips on how to grow them. Most are only available to grow from seed due to their uniqueness. Fortunately\, gourmet vegetables are no harder to grow than standard varieties! \n\n\n\nJohn Fromer is a Maine Master Gardener Volunteer and the Program Director at Merryspring Nature Center\, a 66-acre sanctuary in Camden and Rockport dedicated to preserving the natural beauty of the midcoast of Maine. CLICK THE LOGO BELOW to learn more about Merryspring Nature Center.  \n\n\n\n\n\n\n\nSAVE THE DATES FOR MORE EVENTS IN THIS SERIES: \n\n\n\nWednesday\, April 8\, from 1 to 2 PM\, at Rockport Library:Pollinator Friendly Flowers (vs Ornamental) \n\n\n\nWednesday\, May 13\, from 1 to 2 PM\, at Rockport Library:Merryspring Mapped – Know as you go!  \n\n\n\nWednesday\, June 17\, from 1 to 2 PM\, AT MERRYSPRING NATURE CENTER:Exploring the Interpretive Trail – Highlights of Merryspring. 
URL:https://www.rockportlibrary.net/event/my-favorite-vegetables-growing-gourmet/
CATEGORIES:Adults
ATTACH;FMTTYPE=image/jpeg:https://www.rockportlibrary.net/wp-content/uploads/gourmet-fb-event.jpg
END:VEVENT
BEGIN:VEVENT
DTSTART;TZID=America/New_York:20260312T100000
DTEND;TZID=America/New_York:20260312T110000
DTSTAMP:20260424T061014
CREATED:20260225T184245Z
LAST-MODIFIED:20260225T184246Z
UID:10004646-1773309600-1773313200@www.rockportlibrary.net
SUMMARY:Music Together
DESCRIPTION:Music Together® is a 45-minute early childhood music and movement class through the Midcoast Music Academy\, for ages 0 through 5 with caregiver(s).  Free. Open to all families.
URL:https://www.rockportlibrary.net/event/music-together-2/
CATEGORIES:Kids & Family
ATTACH;FMTTYPE=image/jpeg:https://www.rockportlibrary.net/wp-content/uploads/story-time-1200x675-1.jpg
END:VEVENT
BEGIN:VEVENT
DTSTART;TZID=America/New_York:20260312T130000
DTEND;TZID=America/New_York:20260312T150000
DTSTAMP:20260424T061014
CREATED:20250910T195524Z
LAST-MODIFIED:20250910T195525Z
UID:10001445-1773320400-1773327600@www.rockportlibrary.net
SUMMARY:Bridge
DESCRIPTION:Stop by to play this fun and challenging classic card game. Players of all levels are welcome. This group meets on Thursdays\, at 1:00 PM.
URL:https://www.rockportlibrary.net/event/bridge/2026-03-12/
CATEGORIES:Adults
ATTACH;FMTTYPE=image/jpeg:https://www.rockportlibrary.net/wp-content/uploads/bridgegroup-1.jpg
END:VEVENT
BEGIN:VEVENT
DTSTART;TZID=America/New_York:20260312T160000
DTEND;TZID=America/New_York:20260312T170000
DTSTAMP:20260424T061014
CREATED:20250910T201103Z
LAST-MODIFIED:20251113T211300Z
UID:10003676-1773331200-1773334800@www.rockportlibrary.net
SUMMARY:Tech Help Hour
DESCRIPTION:Just drop in during our Tech Help Hour\, and a staff member will assist you with whatever your tech needs are. We can help with anything from basic computer questions to using your IPad with the Maine Download Library. This free service is offered every Thursday at 4:00 PM.
URL:https://www.rockportlibrary.net/event/tech-help-hour/2026-03-12/
LOCATION:Marine Room
CATEGORIES:Adults
ATTACH;FMTTYPE=image/jpeg:https://www.rockportlibrary.net/wp-content/uploads/tech-help.jpg
END:VEVENT
BEGIN:VEVENT
DTSTART;TZID=America/New_York:20260313T100000
DTEND;TZID=America/New_York:20260313T113000
DTSTAMP:20260424T061014
CREATED:20250910T200301Z
LAST-MODIFIED:20250910T200302Z
UID:10002232-1773396000-1773401400@www.rockportlibrary.net
SUMMARY:Mahjong
DESCRIPTION:Mahjong or mah-jongg (English pronunciation: mah-JONG) is a tile-based game that was developed in the 19th century in China and has spread throughout the world since the early 20th century. It is commonly played by four players (with some three-player variations). This group meets on Fridays\, at 10:00 AM for approximately 90-120 minutes.
URL:https://www.rockportlibrary.net/event/mahjong/2026-03-13/
LOCATION:Rockport Room (Lower Level)
CATEGORIES:Adults
ATTACH;FMTTYPE=image/jpeg:https://www.rockportlibrary.net/wp-content/uploads/mahjonggroup-1.jpg
END:VEVENT
BEGIN:VEVENT
DTSTART;TZID=America/New_York:20260313T133000
DTEND;TZID=America/New_York:20260313T143000
DTSTAMP:20260424T061014
CREATED:20250910T201326Z
LAST-MODIFIED:20250910T202028Z
UID:10002887-1773408600-1773412200@www.rockportlibrary.net
SUMMARY:French Conversation Group
DESCRIPTION:Parlez-vous français? Practice your French with friends and neighbors who are also fluent speakers. This group meets every Monday and Friday at 1:30 PM for approximately 60 min.
URL:https://www.rockportlibrary.net/event/french-conversation-group/2026-03-13/
LOCATION:Marine Room
CATEGORIES:Adults
ATTACH;FMTTYPE=image/jpeg:https://www.rockportlibrary.net/wp-content/uploads/frenchgroup-1.jpg
END:VEVENT
BEGIN:VEVENT
DTSTART;TZID=America/New_York:20260314T100000
DTEND;TZID=America/New_York:20260314T113000
DTSTAMP:20260424T061014
CREATED:20251120T152040Z
LAST-MODIFIED:20251120T175423Z
UID:10004069-1773482400-1773487800@www.rockportlibrary.net
SUMMARY:Ancient Greek for Beginners
DESCRIPTION:Have you ever wanted to read The Odyssey or the New Testament in the original language? By the end of this fast-paced 10-week course\, you will be able to read and write (and speak!) basic sentences in Ancient Greek as it was spoken in Athens around 500 BCE. (It will not help you order a coffee in Greece!) This course is open to all ages and is ideal for those who have never studied Ancient Greek before. \n\n\n\nAbout the Instructor: \n\n\n\nElizabeth Ogle recently earned her master’s in Greek and Latin Languages & Literature from Oxford University\, where she focused on Greek tragedy and the Underworld. She performed in the first Greek play ever to be staged in the original language and with reconstructed Ancient Greek music\, instruments\, and masks. She has over four years of assistant teaching experience across all age groups. \n\n\n\nSPACE IN THE CLASS IS LIMITED. PLEASE CALL THE LIBRARY AT 207-236-3642 TO SIGN UP. \n\n\n\nPhoto info: Picture of Elizabeth Ogle taken on Aegina at the temple of Aphaia.
URL:https://www.rockportlibrary.net/event/ancient-greek-for-beginners/2026-03-14/
CATEGORIES:Adults,Tweens & Teens
ATTACH;FMTTYPE=image/jpeg:https://www.rockportlibrary.net/wp-content/uploads/ag-fb-event.jpg
END:VEVENT
BEGIN:VEVENT
DTSTART;TZID=America/New_York:20260316T133000
DTEND;TZID=America/New_York:20260316T143000
DTSTAMP:20260424T061014
CREATED:20250910T201326Z
LAST-MODIFIED:20250910T202028Z
UID:10003411-1773667800-1773671400@www.rockportlibrary.net
SUMMARY:French Conversation Group
DESCRIPTION:Parlez-vous français? Practice your French with friends and neighbors who are also fluent speakers. This group meets every Monday and Friday at 1:30 PM for approximately 60 min.
URL:https://www.rockportlibrary.net/event/french-conversation-group/2026-03-16/
LOCATION:Marine Room
CATEGORIES:Adults
ATTACH;FMTTYPE=image/jpeg:https://www.rockportlibrary.net/wp-content/uploads/frenchgroup-1.jpg
END:VEVENT
BEGIN:VEVENT
DTSTART;TZID=America/New_York:20260317T100000
DTEND;TZID=America/New_York:20260317T113000
DTSTAMP:20260424T061014
CREATED:20250910T195828Z
LAST-MODIFIED:20250910T195829Z
UID:10001708-1773741600-1773747000@www.rockportlibrary.net
SUMMARY:Discussion Group
DESCRIPTION:This group is open to discussing all viewpoints and ideas. Topics are typically related to local\, national\, and global current events. This group meets every Tuesday at 10:00 AM for 60 to 90 minutes.
URL:https://www.rockportlibrary.net/event/discussion-group/2026-03-17/
LOCATION:Marine Room
CATEGORIES:Adults
ATTACH;FMTTYPE=image/jpeg:https://www.rockportlibrary.net/wp-content/uploads/discussiongroup-1.jpg
END:VEVENT
END:VCALENDAR