BEGIN:VCALENDAR
VERSION:2.0
PRODID:-//Rockport Public Library - ECPv6.15.20//NONSGML v1.0//EN
CALSCALE:GREGORIAN
METHOD:PUBLISH
X-ORIGINAL-URL:https://www.rockportlibrary.net
X-WR-CALDESC:Events for Rockport Public Library
REFRESH-INTERVAL;VALUE=DURATION:PT1H
X-Robots-Tag:noindex
X-PUBLISHED-TTL:PT1H
BEGIN:VTIMEZONE
TZID:America/New_York
BEGIN:DAYLIGHT
TZOFFSETFROM:-0500
TZOFFSETTO:-0400
TZNAME:EDT
DTSTART:20250309T070000
END:DAYLIGHT
BEGIN:STANDARD
TZOFFSETFROM:-0400
TZOFFSETTO:-0500
TZNAME:EST
DTSTART:20251102T060000
END:STANDARD
BEGIN:DAYLIGHT
TZOFFSETFROM:-0500
TZOFFSETTO:-0400
TZNAME:EDT
DTSTART:20260308T070000
END:DAYLIGHT
BEGIN:STANDARD
TZOFFSETFROM:-0400
TZOFFSETTO:-0500
TZNAME:EST
DTSTART:20261101T060000
END:STANDARD
BEGIN:DAYLIGHT
TZOFFSETFROM:-0500
TZOFFSETTO:-0400
TZNAME:EDT
DTSTART:20270314T070000
END:DAYLIGHT
BEGIN:STANDARD
TZOFFSETFROM:-0400
TZOFFSETTO:-0500
TZNAME:EST
DTSTART:20271107T060000
END:STANDARD
END:VTIMEZONE
BEGIN:VEVENT
DTSTART;TZID=America/New_York:20260205T160000
DTEND;TZID=America/New_York:20260205T171500
DTSTAMP:20260420T035710
CREATED:20250910T200659Z
LAST-MODIFIED:20250910T202830Z
UID:10002621-1770307200-1770311700@www.rockportlibrary.net
SUMMARY:Poets' Corner
DESCRIPTION:The Rockport Public Library Poets’ Corner is a welcoming group of local poets of all ages and backgrounds. Email Bill Eberle at bill@wcedesign.com for more information. This group meets on 1st and 3rd Thursdays\, at 4:00 PM for approximately 60-90 minutes. Learn more about other poetry events in the area on the Midcoast Poetry Calendar: midcoastpoetrycalendar.com
URL:https://www.rockportlibrary.net/event/poets-corner/2026-02-05/
LOCATION:Marine Room
CATEGORIES:Adults
ATTACH;FMTTYPE=image/jpeg:https://www.rockportlibrary.net/wp-content/uploads/poetscorner_june2023sm-1.jpg
END:VEVENT
BEGIN:VEVENT
DTSTART;TZID=America/New_York:20260206T100000
DTEND;TZID=America/New_York:20260206T113000
DTSTAMP:20260420T035710
CREATED:20250910T200301Z
LAST-MODIFIED:20250910T200302Z
UID:10002227-1770372000-1770377400@www.rockportlibrary.net
SUMMARY:Mahjong
DESCRIPTION:Mahjong or mah-jongg (English pronunciation: mah-JONG) is a tile-based game that was developed in the 19th century in China and has spread throughout the world since the early 20th century. It is commonly played by four players (with some three-player variations). This group meets on Fridays\, at 10:00 AM for approximately 90-120 minutes.
URL:https://www.rockportlibrary.net/event/mahjong/2026-02-06/
LOCATION:Rockport Room (Lower Level)
CATEGORIES:Adults
ATTACH;FMTTYPE=image/jpeg:https://www.rockportlibrary.net/wp-content/uploads/mahjonggroup-1.jpg
END:VEVENT
BEGIN:VEVENT
DTSTART;TZID=America/New_York:20260206T133000
DTEND;TZID=America/New_York:20260206T143000
DTSTAMP:20260420T035710
CREATED:20250910T201326Z
LAST-MODIFIED:20250910T202028Z
UID:10002882-1770384600-1770388200@www.rockportlibrary.net
SUMMARY:French Conversation Group
DESCRIPTION:Parlez-vous français? Practice your French with friends and neighbors who are also fluent speakers. This group meets every Monday and Friday at 1:30 PM for approximately 60 min.
URL:https://www.rockportlibrary.net/event/french-conversation-group/2026-02-06/
LOCATION:Marine Room
CATEGORIES:Adults
ATTACH;FMTTYPE=image/jpeg:https://www.rockportlibrary.net/wp-content/uploads/frenchgroup-1.jpg
END:VEVENT
BEGIN:VEVENT
DTSTART;TZID=America/New_York:20260207T100000
DTEND;TZID=America/New_York:20260207T113000
DTSTAMP:20260420T035710
CREATED:20251120T152040Z
LAST-MODIFIED:20251120T175423Z
UID:10004064-1770458400-1770463800@www.rockportlibrary.net
SUMMARY:Ancient Greek for Beginners
DESCRIPTION:Have you ever wanted to read The Odyssey or the New Testament in the original language? By the end of this fast-paced 10-week course\, you will be able to read and write (and speak!) basic sentences in Ancient Greek as it was spoken in Athens around 500 BCE. (It will not help you order a coffee in Greece!) This course is open to all ages and is ideal for those who have never studied Ancient Greek before. \n\n\n\nAbout the Instructor: \n\n\n\nElizabeth Ogle recently earned her master’s in Greek and Latin Languages & Literature from Oxford University\, where she focused on Greek tragedy and the Underworld. She performed in the first Greek play ever to be staged in the original language and with reconstructed Ancient Greek music\, instruments\, and masks. She has over four years of assistant teaching experience across all age groups. \n\n\n\nSPACE IN THE CLASS IS LIMITED. PLEASE CALL THE LIBRARY AT 207-236-3642 TO SIGN UP. \n\n\n\nPhoto info: Picture of Elizabeth Ogle taken on Aegina at the temple of Aphaia.
URL:https://www.rockportlibrary.net/event/ancient-greek-for-beginners/2026-02-07/
CATEGORIES:Adults,Tweens & Teens
ATTACH;FMTTYPE=image/jpeg:https://www.rockportlibrary.net/wp-content/uploads/ag-fb-event.jpg
END:VEVENT
BEGIN:VEVENT
DTSTART;TZID=America/New_York:20260207T103000
DTEND;TZID=America/New_York:20260207T120000
DTSTAMP:20260420T035710
CREATED:20260113T184641Z
LAST-MODIFIED:20260123T210919Z
UID:10004342-1770460200-1770465600@www.rockportlibrary.net
SUMMARY:Valentine's Day Family Tea Party!
DESCRIPTION:It’s time for our annual Valentine’s Day Tea Party! Families will be greeted by cafe waiters who will seat families at the decorated tables in the Rockport Room. Specialty menus will be provided\, filled with drink choices and treats. Once orders are placed with your waiter\, families are encouraged to create homemade Valentines together. \n\n\n\nAND bring your dancing shoes as we welcome back theaward-winning band\, The Gibbonses!  \n\n\n\nFree event\, open to families. Space is limited\, call 236-3642 to RSVP.  \n\n\n\nTo learn more about The Gibbonses\, you can visit their website at: https://www.thegibbonses.com/
URL:https://www.rockportlibrary.net/event/valentines-day-family-tea-party/
CATEGORIES:Kids & Family
ATTACH;FMTTYPE=image/png:https://www.rockportlibrary.net/wp-content/uploads/valentines-day-family-tea-party-3.png
END:VEVENT
BEGIN:VEVENT
DTSTART;TZID=America/New_York:20260209T133000
DTEND;TZID=America/New_York:20260209T143000
DTSTAMP:20260420T035710
CREATED:20250910T201326Z
LAST-MODIFIED:20250910T202028Z
UID:10003406-1770643800-1770647400@www.rockportlibrary.net
SUMMARY:French Conversation Group
DESCRIPTION:Parlez-vous français? Practice your French with friends and neighbors who are also fluent speakers. This group meets every Monday and Friday at 1:30 PM for approximately 60 min.
URL:https://www.rockportlibrary.net/event/french-conversation-group/2026-02-09/
LOCATION:Marine Room
CATEGORIES:Adults
ATTACH;FMTTYPE=image/jpeg:https://www.rockportlibrary.net/wp-content/uploads/frenchgroup-1.jpg
END:VEVENT
BEGIN:VEVENT
DTSTART;TZID=America/New_York:20260210T100000
DTEND;TZID=America/New_York:20260210T113000
DTSTAMP:20260420T035710
CREATED:20250910T195828Z
LAST-MODIFIED:20250910T195829Z
UID:10001703-1770717600-1770723000@www.rockportlibrary.net
SUMMARY:Discussion Group
DESCRIPTION:This group is open to discussing all viewpoints and ideas. Topics are typically related to local\, national\, and global current events. This group meets every Tuesday at 10:00 AM for 60 to 90 minutes.
URL:https://www.rockportlibrary.net/event/discussion-group/2026-02-10/
LOCATION:Marine Room
CATEGORIES:Adults
ATTACH;FMTTYPE=image/jpeg:https://www.rockportlibrary.net/wp-content/uploads/discussiongroup-1.jpg
END:VEVENT
BEGIN:VEVENT
DTSTART;TZID=America/New_York:20260211T130000
DTEND;TZID=America/New_York:20260211T140000
DTSTAMP:20260420T035710
CREATED:20251216T213223Z
LAST-MODIFIED:20251216T213224Z
UID:10004079-1770814800-1770818400@www.rockportlibrary.net
SUMMARY:AI Made Simple: A Practical Introduction for Everyday Life
DESCRIPTION:Artificial intelligence is no longer an abstract idea—it’s a practical tool that can make everyday tasks easier. In this friendly\, one-hour session\, we’ll break down what AI is (in plain English)\, show simple real-life examples\, and explore how it can help with things like writing messages\, planning trips\, understanding documents\, or learning new skills. No technical background is required\, just curiosity. \n\n\n\nABOUT THE PRESENTER: \n\n\n\nAnastasia Fischer is a Maine-based product strategist and consultant who has spent 20+ years helping organizations use technology in practical\, human-centered ways. She previously led US Harbors\, growing it into a nationally recognized coastal weather platform\, and now works with nonprofits\, small businesses\, and rural communities to help them navigate emerging technologies with confidence and clarity.
URL:https://www.rockportlibrary.net/event/ai-made-simple-a-practical-introduction-for-everyday-life/
CATEGORIES:Adults
ATTACH;FMTTYPE=image/jpeg:https://www.rockportlibrary.net/wp-content/uploads/ai-flyer-fb-event.jpg
END:VEVENT
BEGIN:VEVENT
DTSTART;TZID=America/New_York:20260212T100000
DTEND;TZID=America/New_York:20260212T110000
DTSTAMP:20260420T035710
CREATED:20260128T212414Z
LAST-MODIFIED:20260128T212415Z
UID:10004084-1770890400-1770894000@www.rockportlibrary.net
SUMMARY:Music Together
DESCRIPTION:Music Together® is a 45-minute early childhood music and movement class through the Midcoast Music Academy\, for ages 0 through 5 with caregiver(s).  Free. Open to all families.
URL:https://www.rockportlibrary.net/event/toddler-story-time-3/
CATEGORIES:Kids & Family
ATTACH;FMTTYPE=image/jpeg:https://www.rockportlibrary.net/wp-content/uploads/story-time-1200x675-1.jpg
END:VEVENT
BEGIN:VEVENT
DTSTART;TZID=America/New_York:20260212T130000
DTEND;TZID=America/New_York:20260212T150000
DTSTAMP:20260420T035710
CREATED:20250910T195524Z
LAST-MODIFIED:20250910T195525Z
UID:10001441-1770901200-1770908400@www.rockportlibrary.net
SUMMARY:Bridge
DESCRIPTION:Stop by to play this fun and challenging classic card game. Players of all levels are welcome. This group meets on Thursdays\, at 1:00 PM.
URL:https://www.rockportlibrary.net/event/bridge/2026-02-12/
CATEGORIES:Adults
ATTACH;FMTTYPE=image/jpeg:https://www.rockportlibrary.net/wp-content/uploads/bridgegroup-1.jpg
END:VEVENT
BEGIN:VEVENT
DTSTART;TZID=America/New_York:20260212T160000
DTEND;TZID=America/New_York:20260212T170000
DTSTAMP:20260420T035710
CREATED:20250910T201103Z
LAST-MODIFIED:20251113T211300Z
UID:10003672-1770912000-1770915600@www.rockportlibrary.net
SUMMARY:Tech Help Hour
DESCRIPTION:Just drop in during our Tech Help Hour\, and a staff member will assist you with whatever your tech needs are. We can help with anything from basic computer questions to using your IPad with the Maine Download Library. This free service is offered every Thursday at 4:00 PM.
URL:https://www.rockportlibrary.net/event/tech-help-hour/2026-02-12/
LOCATION:Marine Room
CATEGORIES:Adults
ATTACH;FMTTYPE=image/jpeg:https://www.rockportlibrary.net/wp-content/uploads/tech-help.jpg
END:VEVENT
BEGIN:VEVENT
DTSTART;TZID=America/New_York:20260213T100000
DTEND;TZID=America/New_York:20260213T113000
DTSTAMP:20260420T035710
CREATED:20250910T200301Z
LAST-MODIFIED:20250910T200302Z
UID:10002228-1770976800-1770982200@www.rockportlibrary.net
SUMMARY:Mahjong
DESCRIPTION:Mahjong or mah-jongg (English pronunciation: mah-JONG) is a tile-based game that was developed in the 19th century in China and has spread throughout the world since the early 20th century. It is commonly played by four players (with some three-player variations). This group meets on Fridays\, at 10:00 AM for approximately 90-120 minutes.
URL:https://www.rockportlibrary.net/event/mahjong/2026-02-13/
LOCATION:Rockport Room (Lower Level)
CATEGORIES:Adults
ATTACH;FMTTYPE=image/jpeg:https://www.rockportlibrary.net/wp-content/uploads/mahjonggroup-1.jpg
END:VEVENT
BEGIN:VEVENT
DTSTART;TZID=America/New_York:20260213T133000
DTEND;TZID=America/New_York:20260213T143000
DTSTAMP:20260420T035710
CREATED:20250910T201326Z
LAST-MODIFIED:20250910T202028Z
UID:10002883-1770989400-1770993000@www.rockportlibrary.net
SUMMARY:French Conversation Group
DESCRIPTION:Parlez-vous français? Practice your French with friends and neighbors who are also fluent speakers. This group meets every Monday and Friday at 1:30 PM for approximately 60 min.
URL:https://www.rockportlibrary.net/event/french-conversation-group/2026-02-13/
LOCATION:Marine Room
CATEGORIES:Adults
ATTACH;FMTTYPE=image/jpeg:https://www.rockportlibrary.net/wp-content/uploads/frenchgroup-1.jpg
END:VEVENT
BEGIN:VEVENT
DTSTART;TZID=America/New_York:20260214T100000
DTEND;TZID=America/New_York:20260214T113000
DTSTAMP:20260420T035710
CREATED:20251120T152040Z
LAST-MODIFIED:20251120T175423Z
UID:10004065-1771063200-1771068600@www.rockportlibrary.net
SUMMARY:Ancient Greek for Beginners
DESCRIPTION:Have you ever wanted to read The Odyssey or the New Testament in the original language? By the end of this fast-paced 10-week course\, you will be able to read and write (and speak!) basic sentences in Ancient Greek as it was spoken in Athens around 500 BCE. (It will not help you order a coffee in Greece!) This course is open to all ages and is ideal for those who have never studied Ancient Greek before. \n\n\n\nAbout the Instructor: \n\n\n\nElizabeth Ogle recently earned her master’s in Greek and Latin Languages & Literature from Oxford University\, where she focused on Greek tragedy and the Underworld. She performed in the first Greek play ever to be staged in the original language and with reconstructed Ancient Greek music\, instruments\, and masks. She has over four years of assistant teaching experience across all age groups. \n\n\n\nSPACE IN THE CLASS IS LIMITED. PLEASE CALL THE LIBRARY AT 207-236-3642 TO SIGN UP. \n\n\n\nPhoto info: Picture of Elizabeth Ogle taken on Aegina at the temple of Aphaia.
URL:https://www.rockportlibrary.net/event/ancient-greek-for-beginners/2026-02-14/
CATEGORIES:Adults,Tweens & Teens
ATTACH;FMTTYPE=image/jpeg:https://www.rockportlibrary.net/wp-content/uploads/ag-fb-event.jpg
END:VEVENT
BEGIN:VEVENT
DTSTART;TZID=America/New_York:20260216T093000
DTEND;TZID=America/New_York:20260216T173000
DTSTAMP:20260420T035710
CREATED:20260127T203515Z
LAST-MODIFIED:20260127T203516Z
UID:10004348-1771234200-1771263000@www.rockportlibrary.net
SUMMARY:CLOSED FOR PRESIDENTS' DAY
DESCRIPTION:The Rockport Public Library will be CLOSED on Monday\, February 16 for Presidents’ Day. We will reopen for regular hours and programs on Tuesday\, February 17.
URL:https://www.rockportlibrary.net/event/closed-for-presidents-day/
CATEGORIES:Adults,Kids & Family,Tweens & Teens
ATTACH;FMTTYPE=image/jpeg:https://www.rockportlibrary.net/wp-content/uploads/closed-sign-2.jpg
END:VEVENT
BEGIN:VEVENT
DTSTART;TZID=America/New_York:20260217T100000
DTEND;TZID=America/New_York:20260217T113000
DTSTAMP:20260420T035710
CREATED:20250910T195828Z
LAST-MODIFIED:20250910T195829Z
UID:10001704-1771322400-1771327800@www.rockportlibrary.net
SUMMARY:Discussion Group
DESCRIPTION:This group is open to discussing all viewpoints and ideas. Topics are typically related to local\, national\, and global current events. This group meets every Tuesday at 10:00 AM for 60 to 90 minutes.
URL:https://www.rockportlibrary.net/event/discussion-group/2026-02-17/
LOCATION:Marine Room
CATEGORIES:Adults
ATTACH;FMTTYPE=image/jpeg:https://www.rockportlibrary.net/wp-content/uploads/discussiongroup-1.jpg
END:VEVENT
BEGIN:VEVENT
DTSTART;TZID=America/New_York:20260217T150000
DTEND;TZID=America/New_York:20260217T170000
DTSTAMP:20260420T035710
CREATED:20251113T210739Z
LAST-MODIFIED:20251113T210739Z
UID:10004044-1771340400-1771347600@www.rockportlibrary.net
SUMMARY:Fiber Arts
DESCRIPTION:Do you knit\, spin\, crochet\, embroider\, felt\, or practice other types of fiber arts? Would you like to work on your projects alongside other like-minded enthusiasts? This lively group is a great place to ask questions\, share tips\, and enjoy the company of other fiber artists. Meets on 1st\, 3rd\, and 5th Tuesdays (when there is a 5th Tuesday!) at 3:00 p.m. in the library’s lower level. New members are always welcome.
URL:https://www.rockportlibrary.net/event/fiber-arts-2/2026-02-17/
ATTACH;FMTTYPE=image/jpeg:https://www.rockportlibrary.net/wp-content/uploads/fiberartsgroup.jpg
END:VEVENT
BEGIN:VEVENT
DTSTART;TZID=America/New_York:20260218T180000
DTEND;TZID=America/New_York:20260218T190000
DTSTAMP:20260420T035710
CREATED:20260113T205813Z
LAST-MODIFIED:20260113T205941Z
UID:10004343-1771437600-1771441200@www.rockportlibrary.net
SUMMARY:Hiking in Italy: The Way of St. Francis
DESCRIPTION:On Wednesday\, Feb. 18\, at 6 p.m.\, Camden resident Francis Boscoe will give a presentation at the Rockport Public Library detailing his experiences hiking “The Way of St. Francis” in Italy during the fall of 2025. \n\n\n\nMany thousands of pilgrims walk the “Camino de Santiago” across Spain each year. Boscoe decided to select a similar\, less traveled European pilgrimage. “The Way of St. Francis” (Via San Francesco)\, from Florence to Assisi to Rome\, sees only a small fraction of the Camino visitors\, yet has comparable amenities. Through photos and stories\, Boscoe will recount his 333 mile walk through the central Apennines\, and provide information to the audience as to how they too can follow in the footsteps of St. Francis. \n\n\n\nFrancis Boscoe is a geographer\, musician\, poet\, and substitute math teacher. He has attended language-immersion school in Italy in each of the last three years\, and has taught Italian for beginners through Five Town CSD Adult Ed. 
URL:https://www.rockportlibrary.net/event/hiking-in-italy-the-st-francis-way/
CATEGORIES:Adults
ATTACH;FMTTYPE=image/jpeg:https://www.rockportlibrary.net/wp-content/uploads/st-francis-fb.jpg
END:VEVENT
BEGIN:VEVENT
DTSTART;TZID=America/New_York:20260219T130000
DTEND;TZID=America/New_York:20260219T150000
DTSTAMP:20260420T035710
CREATED:20250910T195524Z
LAST-MODIFIED:20250910T195525Z
UID:10001442-1771506000-1771513200@www.rockportlibrary.net
SUMMARY:Bridge
DESCRIPTION:Stop by to play this fun and challenging classic card game. Players of all levels are welcome. This group meets on Thursdays\, at 1:00 PM.
URL:https://www.rockportlibrary.net/event/bridge/2026-02-19/
CATEGORIES:Adults
ATTACH;FMTTYPE=image/jpeg:https://www.rockportlibrary.net/wp-content/uploads/bridgegroup-1.jpg
END:VEVENT
BEGIN:VEVENT
DTSTART;TZID=America/New_York:20260219T160000
DTEND;TZID=America/New_York:20260219T170000
DTSTAMP:20260420T035710
CREATED:20250910T201103Z
LAST-MODIFIED:20251113T211300Z
UID:10003673-1771516800-1771520400@www.rockportlibrary.net
SUMMARY:Tech Help Hour
DESCRIPTION:Just drop in during our Tech Help Hour\, and a staff member will assist you with whatever your tech needs are. We can help with anything from basic computer questions to using your IPad with the Maine Download Library. This free service is offered every Thursday at 4:00 PM.
URL:https://www.rockportlibrary.net/event/tech-help-hour/2026-02-19/
LOCATION:Marine Room
CATEGORIES:Adults
ATTACH;FMTTYPE=image/jpeg:https://www.rockportlibrary.net/wp-content/uploads/tech-help.jpg
END:VEVENT
BEGIN:VEVENT
DTSTART;TZID=America/New_York:20260219T160000
DTEND;TZID=America/New_York:20260219T171500
DTSTAMP:20260420T035710
CREATED:20250910T200659Z
LAST-MODIFIED:20250910T202830Z
UID:10002623-1771516800-1771521300@www.rockportlibrary.net
SUMMARY:Poets' Corner
DESCRIPTION:The Rockport Public Library Poets’ Corner is a welcoming group of local poets of all ages and backgrounds. Email Bill Eberle at bill@wcedesign.com for more information. This group meets on 1st and 3rd Thursdays\, at 4:00 PM for approximately 60-90 minutes. Learn more about other poetry events in the area on the Midcoast Poetry Calendar: midcoastpoetrycalendar.com
URL:https://www.rockportlibrary.net/event/poets-corner/2026-02-19/
LOCATION:Marine Room
CATEGORIES:Adults
ATTACH;FMTTYPE=image/jpeg:https://www.rockportlibrary.net/wp-content/uploads/poetscorner_june2023sm-1.jpg
END:VEVENT
BEGIN:VEVENT
DTSTART;TZID=America/New_York:20260220T100000
DTEND;TZID=America/New_York:20260220T113000
DTSTAMP:20260420T035710
CREATED:20250910T200301Z
LAST-MODIFIED:20250910T200302Z
UID:10002229-1771581600-1771587000@www.rockportlibrary.net
SUMMARY:Mahjong
DESCRIPTION:Mahjong or mah-jongg (English pronunciation: mah-JONG) is a tile-based game that was developed in the 19th century in China and has spread throughout the world since the early 20th century. It is commonly played by four players (with some three-player variations). This group meets on Fridays\, at 10:00 AM for approximately 90-120 minutes.
URL:https://www.rockportlibrary.net/event/mahjong/2026-02-20/
LOCATION:Rockport Room (Lower Level)
CATEGORIES:Adults
ATTACH;FMTTYPE=image/jpeg:https://www.rockportlibrary.net/wp-content/uploads/mahjonggroup-1.jpg
END:VEVENT
BEGIN:VEVENT
DTSTART;TZID=America/New_York:20260220T133000
DTEND;TZID=America/New_York:20260220T143000
DTSTAMP:20260420T035710
CREATED:20250910T201326Z
LAST-MODIFIED:20250910T202028Z
UID:10002884-1771594200-1771597800@www.rockportlibrary.net
SUMMARY:French Conversation Group
DESCRIPTION:Parlez-vous français? Practice your French with friends and neighbors who are also fluent speakers. This group meets every Monday and Friday at 1:30 PM for approximately 60 min.
URL:https://www.rockportlibrary.net/event/french-conversation-group/2026-02-20/
LOCATION:Marine Room
CATEGORIES:Adults
ATTACH;FMTTYPE=image/jpeg:https://www.rockportlibrary.net/wp-content/uploads/frenchgroup-1.jpg
END:VEVENT
BEGIN:VEVENT
DTSTART;TZID=America/New_York:20260221T100000
DTEND;TZID=America/New_York:20260221T113000
DTSTAMP:20260420T035710
CREATED:20251120T152040Z
LAST-MODIFIED:20251120T175423Z
UID:10004066-1771668000-1771673400@www.rockportlibrary.net
SUMMARY:Ancient Greek for Beginners
DESCRIPTION:Have you ever wanted to read The Odyssey or the New Testament in the original language? By the end of this fast-paced 10-week course\, you will be able to read and write (and speak!) basic sentences in Ancient Greek as it was spoken in Athens around 500 BCE. (It will not help you order a coffee in Greece!) This course is open to all ages and is ideal for those who have never studied Ancient Greek before. \n\n\n\nAbout the Instructor: \n\n\n\nElizabeth Ogle recently earned her master’s in Greek and Latin Languages & Literature from Oxford University\, where she focused on Greek tragedy and the Underworld. She performed in the first Greek play ever to be staged in the original language and with reconstructed Ancient Greek music\, instruments\, and masks. She has over four years of assistant teaching experience across all age groups. \n\n\n\nSPACE IN THE CLASS IS LIMITED. PLEASE CALL THE LIBRARY AT 207-236-3642 TO SIGN UP. \n\n\n\nPhoto info: Picture of Elizabeth Ogle taken on Aegina at the temple of Aphaia.
URL:https://www.rockportlibrary.net/event/ancient-greek-for-beginners/2026-02-21/
CATEGORIES:Adults,Tweens & Teens
ATTACH;FMTTYPE=image/jpeg:https://www.rockportlibrary.net/wp-content/uploads/ag-fb-event.jpg
END:VEVENT
BEGIN:VEVENT
DTSTART;TZID=America/New_York:20260221T103000
DTEND;TZID=America/New_York:20260221T113000
DTSTAMP:20260420T035710
CREATED:20260123T210238Z
LAST-MODIFIED:20260123T222112Z
UID:10004346-1771669800-1771673400@www.rockportlibrary.net
SUMMARY:Saturday Morning Family Art Class
DESCRIPTION:Art and music for the whole family! The focus will be on local author/illustrator Stephen Costanza’s children’s book\, “Vivaldi and the Invisible Orchestra.” \n\n\n\nFamilies will interact with and recreate the artistic style of Costanza\, while studying his illustrations as they connect and move along with Vivaldi’s concertos and poetry. Learn more about Stephen Costanza’s picture books on his website: stephencostanza.com \n\n\n\nSpace is limited. Call 236-3642 to register. \n\n\n\nDon’t forget to join us on Saturday\, Feb. 28 for Multimedia Family Event: A Scott Joplin Celebration. CLICK HERE to learn more! Artwork from Costanza’s book King of Ragtime: The Story of Scott Joplin will be on view at the Rockport Library Feb. 3 – 28.
URL:https://www.rockportlibrary.net/event/saturday-morning-family-art-class-3/
CATEGORIES:Kids & Family
ATTACH;FMTTYPE=image/png:https://www.rockportlibrary.net/wp-content/uploads/february-art-class-2.png
END:VEVENT
BEGIN:VEVENT
DTSTART;TZID=America/New_York:20260223T133000
DTEND;TZID=America/New_York:20260223T143000
DTSTAMP:20260420T035710
CREATED:20250910T201326Z
LAST-MODIFIED:20250910T202028Z
UID:10003408-1771853400-1771857000@www.rockportlibrary.net
SUMMARY:French Conversation Group
DESCRIPTION:Parlez-vous français? Practice your French with friends and neighbors who are also fluent speakers. This group meets every Monday and Friday at 1:30 PM for approximately 60 min.
URL:https://www.rockportlibrary.net/event/french-conversation-group/2026-02-23/
LOCATION:Marine Room
CATEGORIES:Adults
ATTACH;FMTTYPE=image/jpeg:https://www.rockportlibrary.net/wp-content/uploads/frenchgroup-1.jpg
END:VEVENT
BEGIN:VEVENT
DTSTART;TZID=America/New_York:20260224T100000
DTEND;TZID=America/New_York:20260224T113000
DTSTAMP:20260420T035710
CREATED:20250910T195828Z
LAST-MODIFIED:20250910T195829Z
UID:10001705-1771927200-1771932600@www.rockportlibrary.net
SUMMARY:Discussion Group
DESCRIPTION:This group is open to discussing all viewpoints and ideas. Topics are typically related to local\, national\, and global current events. This group meets every Tuesday at 10:00 AM for 60 to 90 minutes.
URL:https://www.rockportlibrary.net/event/discussion-group/2026-02-24/
LOCATION:Marine Room
CATEGORIES:Adults
ATTACH;FMTTYPE=image/jpeg:https://www.rockportlibrary.net/wp-content/uploads/discussiongroup-1.jpg
END:VEVENT
BEGIN:VEVENT
DTSTART;TZID=America/New_York:20260226T130000
DTEND;TZID=America/New_York:20260226T150000
DTSTAMP:20260420T035710
CREATED:20250910T195524Z
LAST-MODIFIED:20250910T195525Z
UID:10001443-1772110800-1772118000@www.rockportlibrary.net
SUMMARY:Bridge
DESCRIPTION:Stop by to play this fun and challenging classic card game. Players of all levels are welcome. This group meets on Thursdays\, at 1:00 PM.
URL:https://www.rockportlibrary.net/event/bridge/2026-02-26/
CATEGORIES:Adults
ATTACH;FMTTYPE=image/jpeg:https://www.rockportlibrary.net/wp-content/uploads/bridgegroup-1.jpg
END:VEVENT
BEGIN:VEVENT
DTSTART;TZID=America/New_York:20260226T160000
DTEND;TZID=America/New_York:20260226T170000
DTSTAMP:20260420T035710
CREATED:20250910T201103Z
LAST-MODIFIED:20251113T211300Z
UID:10003674-1772121600-1772125200@www.rockportlibrary.net
SUMMARY:Tech Help Hour
DESCRIPTION:Just drop in during our Tech Help Hour\, and a staff member will assist you with whatever your tech needs are. We can help with anything from basic computer questions to using your IPad with the Maine Download Library. This free service is offered every Thursday at 4:00 PM.
URL:https://www.rockportlibrary.net/event/tech-help-hour/2026-02-26/
LOCATION:Marine Room
CATEGORIES:Adults
ATTACH;FMTTYPE=image/jpeg:https://www.rockportlibrary.net/wp-content/uploads/tech-help.jpg
END:VEVENT
BEGIN:VEVENT
DTSTART;TZID=America/New_York:20260227T100000
DTEND;TZID=America/New_York:20260227T113000
DTSTAMP:20260420T035710
CREATED:20250910T200301Z
LAST-MODIFIED:20250910T200302Z
UID:10002230-1772186400-1772191800@www.rockportlibrary.net
SUMMARY:Mahjong
DESCRIPTION:Mahjong or mah-jongg (English pronunciation: mah-JONG) is a tile-based game that was developed in the 19th century in China and has spread throughout the world since the early 20th century. It is commonly played by four players (with some three-player variations). This group meets on Fridays\, at 10:00 AM for approximately 90-120 minutes.
URL:https://www.rockportlibrary.net/event/mahjong/2026-02-27/
LOCATION:Rockport Room (Lower Level)
CATEGORIES:Adults
ATTACH;FMTTYPE=image/jpeg:https://www.rockportlibrary.net/wp-content/uploads/mahjonggroup-1.jpg
END:VEVENT
END:VCALENDAR