BEGIN:VCALENDAR
VERSION:2.0
PRODID:-//Rockport Public Library - ECPv6.15.20//NONSGML v1.0//EN
CALSCALE:GREGORIAN
METHOD:PUBLISH
X-WR-CALNAME:Rockport Public Library
X-ORIGINAL-URL:https://www.rockportlibrary.net
X-WR-CALDESC:Events for Rockport Public Library
REFRESH-INTERVAL;VALUE=DURATION:PT1H
X-Robots-Tag:noindex
X-PUBLISHED-TTL:PT1H
BEGIN:VTIMEZONE
TZID:America/New_York
BEGIN:DAYLIGHT
TZOFFSETFROM:-0500
TZOFFSETTO:-0400
TZNAME:EDT
DTSTART:20240310T070000
END:DAYLIGHT
BEGIN:STANDARD
TZOFFSETFROM:-0400
TZOFFSETTO:-0500
TZNAME:EST
DTSTART:20241103T060000
END:STANDARD
BEGIN:DAYLIGHT
TZOFFSETFROM:-0500
TZOFFSETTO:-0400
TZNAME:EDT
DTSTART:20250309T070000
END:DAYLIGHT
BEGIN:STANDARD
TZOFFSETFROM:-0400
TZOFFSETTO:-0500
TZNAME:EST
DTSTART:20251102T060000
END:STANDARD
BEGIN:DAYLIGHT
TZOFFSETFROM:-0500
TZOFFSETTO:-0400
TZNAME:EDT
DTSTART:20260308T070000
END:DAYLIGHT
BEGIN:STANDARD
TZOFFSETFROM:-0400
TZOFFSETTO:-0500
TZNAME:EST
DTSTART:20261101T060000
END:STANDARD
END:VTIMEZONE
BEGIN:VEVENT
DTSTART;TZID=America/New_York:20251127T093000
DTEND;TZID=America/New_York:20251127T173000
DTSTAMP:20260420T042118
CREATED:20251103T221947Z
LAST-MODIFIED:20251103T221947Z
UID:10003952-1764235800-1764264600@www.rockportlibrary.net
SUMMARY:CLOSED FOR THANKSGIVING
DESCRIPTION:The Rockport Public Library will be CLOSED FOR THE THANKSGIVING HOLIDAY on Thursday\, November 27 and Friday\, November 28. We will reopen for regular operating hours on Saturday\, November 29. We wish you and your families a very HAPPY THANKSGIVING!
URL:https://www.rockportlibrary.net/event/closed-for-thanksgiving/
CATEGORIES:Adults,Kids & Family,Tweens & Teens
ATTACH;FMTTYPE=image/jpeg:https://www.rockportlibrary.net/wp-content/uploads/closed-sign-2.jpg
END:VEVENT
BEGIN:VEVENT
DTSTART;TZID=America/New_York:20251126T173000
DTEND;TZID=America/New_York:20251126T200000
DTSTAMP:20260420T042118
CREATED:20251106T152544Z
LAST-MODIFIED:20251106T152545Z
UID:10003957-1764178200-1764187200@www.rockportlibrary.net
SUMMARY:CLOSING AT 5:30pm
DESCRIPTION:Closing Early \n\n\n\nThe Library will be closing at 5:30PM on November 26.
URL:https://www.rockportlibrary.net/event/closing-at-530pm/
CATEGORIES:Adults,Kids & Family,Tweens & Teens
ATTACH;FMTTYPE=image/jpeg:https://www.rockportlibrary.net/wp-content/uploads/closing-early-sign.jpg
END:VEVENT
BEGIN:VEVENT
DTSTART;TZID=America/New_York:20251125T100000
DTEND;TZID=America/New_York:20251125T113000
DTSTAMP:20260420T042118
CREATED:20250910T195828Z
LAST-MODIFIED:20250910T195829Z
UID:10001692-1764064800-1764070200@www.rockportlibrary.net
SUMMARY:Discussion Group
DESCRIPTION:This group is open to discussing all viewpoints and ideas. Topics are typically related to local\, national\, and global current events. This group meets every Tuesday at 10:00 AM for 60 to 90 minutes.
URL:https://www.rockportlibrary.net/event/discussion-group/2025-11-25/
LOCATION:Marine Room
CATEGORIES:Adults
ATTACH;FMTTYPE=image/jpeg:https://www.rockportlibrary.net/wp-content/uploads/discussiongroup-1.jpg
END:VEVENT
BEGIN:VEVENT
DTSTART;TZID=America/New_York:20251124T133000
DTEND;TZID=America/New_York:20251124T143000
DTSTAMP:20260420T042118
CREATED:20250910T201326Z
LAST-MODIFIED:20250910T202028Z
UID:10003395-1763991000-1763994600@www.rockportlibrary.net
SUMMARY:French Conversation Group
DESCRIPTION:Parlez-vous français? Practice your French with friends and neighbors who are also fluent speakers. This group meets every Monday and Friday at 1:30 PM for approximately 60 min.
URL:https://www.rockportlibrary.net/event/french-conversation-group/2025-11-24/
LOCATION:Marine Room
CATEGORIES:Adults
ATTACH;FMTTYPE=image/jpeg:https://www.rockportlibrary.net/wp-content/uploads/frenchgroup-1.jpg
END:VEVENT
BEGIN:VEVENT
DTSTART;TZID=America/New_York:20251121T133000
DTEND;TZID=America/New_York:20251121T143000
DTSTAMP:20260420T042118
CREATED:20250910T201326Z
LAST-MODIFIED:20250910T202028Z
UID:10002871-1763731800-1763735400@www.rockportlibrary.net
SUMMARY:French Conversation Group
DESCRIPTION:Parlez-vous français? Practice your French with friends and neighbors who are also fluent speakers. This group meets every Monday and Friday at 1:30 PM for approximately 60 min.
URL:https://www.rockportlibrary.net/event/french-conversation-group/2025-11-21/
LOCATION:Marine Room
CATEGORIES:Adults
ATTACH;FMTTYPE=image/jpeg:https://www.rockportlibrary.net/wp-content/uploads/frenchgroup-1.jpg
END:VEVENT
BEGIN:VEVENT
DTSTART;TZID=America/New_York:20251121T100000
DTEND;TZID=America/New_York:20251121T113000
DTSTAMP:20260420T042118
CREATED:20250910T200301Z
LAST-MODIFIED:20250910T200302Z
UID:10002216-1763719200-1763724600@www.rockportlibrary.net
SUMMARY:Mahjong
DESCRIPTION:Mahjong or mah-jongg (English pronunciation: mah-JONG) is a tile-based game that was developed in the 19th century in China and has spread throughout the world since the early 20th century. It is commonly played by four players (with some three-player variations). This group meets on Fridays\, at 10:00 AM for approximately 90-120 minutes.
URL:https://www.rockportlibrary.net/event/mahjong/2025-11-21/
LOCATION:Rockport Room (Lower Level)
CATEGORIES:Adults
ATTACH;FMTTYPE=image/jpeg:https://www.rockportlibrary.net/wp-content/uploads/mahjonggroup-1.jpg
END:VEVENT
BEGIN:VEVENT
DTSTART;TZID=America/New_York:20251120T160000
DTEND;TZID=America/New_York:20251120T171500
DTSTAMP:20260420T042118
CREATED:20250910T200659Z
LAST-MODIFIED:20250910T202830Z
UID:10002610-1763654400-1763658900@www.rockportlibrary.net
SUMMARY:Poets' Corner
DESCRIPTION:The Rockport Public Library Poets’ Corner is a welcoming group of local poets of all ages and backgrounds. Email Bill Eberle at bill@wcedesign.com for more information. This group meets on 1st and 3rd Thursdays\, at 4:00 PM for approximately 60-90 minutes. Learn more about other poetry events in the area on the Midcoast Poetry Calendar: midcoastpoetrycalendar.com
URL:https://www.rockportlibrary.net/event/poets-corner/2025-11-20/
LOCATION:Marine Room
CATEGORIES:Adults
ATTACH;FMTTYPE=image/jpeg:https://www.rockportlibrary.net/wp-content/uploads/poetscorner_june2023sm-1.jpg
END:VEVENT
BEGIN:VEVENT
DTSTART;TZID=America/New_York:20251120T160000
DTEND;TZID=America/New_York:20251120T170000
DTSTAMP:20260420T042118
CREATED:20250910T201103Z
LAST-MODIFIED:20251113T211300Z
UID:10003660-1763654400-1763658000@www.rockportlibrary.net
SUMMARY:Tech Help Hour
DESCRIPTION:Just drop in during our Tech Help Hour\, and a staff member will assist you with whatever your tech needs are. We can help with anything from basic computer questions to using your IPad with the Maine Download Library. This free service is offered every Thursday at 4:00 PM.
URL:https://www.rockportlibrary.net/event/tech-help-hour/2025-11-20/
LOCATION:Marine Room
CATEGORIES:Adults
ATTACH;FMTTYPE=image/jpeg:https://www.rockportlibrary.net/wp-content/uploads/tech-help.jpg
END:VEVENT
BEGIN:VEVENT
DTSTART;TZID=America/New_York:20251120T130000
DTEND;TZID=America/New_York:20251120T150000
DTSTAMP:20260420T042118
CREATED:20250910T195524Z
LAST-MODIFIED:20250910T195525Z
UID:10001429-1763643600-1763650800@www.rockportlibrary.net
SUMMARY:Bridge
DESCRIPTION:Stop by to play this fun and challenging classic card game. Players of all levels are welcome. This group meets on Thursdays\, at 1:00 PM.
URL:https://www.rockportlibrary.net/event/bridge/2025-11-20/
CATEGORIES:Adults
ATTACH;FMTTYPE=image/jpeg:https://www.rockportlibrary.net/wp-content/uploads/bridgegroup-1.jpg
END:VEVENT
BEGIN:VEVENT
DTSTART;TZID=America/New_York:20251119T153000
DTEND;TZID=America/New_York:20251119T170000
DTSTAMP:20260420T042118
CREATED:20251118T181612Z
LAST-MODIFIED:20251118T181739Z
UID:10004055-1763566200-1763571600@www.rockportlibrary.net
SUMMARY:Pop-Up/Drop-In Family Art Afternoon: Thankful Jars
DESCRIPTION:Take a pause before the holidays begin.. \n\n\n\nFamilies are invited to explore simple\, hands-on activities that spark appreciation — for life\, love\, and one another.You’ll leave with a handmade reminder\, a few new ideas\, and a little more ease in your system. \n\n\n\nLed by developmental psychologist and parenting guide Carrie Contey\, Ph.D.\, founder of Evolving Family Life — a fresh\, soulful approach to growing\, relating\, and thriving together. \n\n\n\nThis is a free event. Open to all families. Drop in anytime.
URL:https://www.rockportlibrary.net/event/pop-up-drop-in-family-art-afternoon-thankful-jars/
CATEGORIES:Kids & Family
ATTACH;FMTTYPE=image/png:https://www.rockportlibrary.net/wp-content/uploads/carrie-2.png
END:VEVENT
BEGIN:VEVENT
DTSTART;TZID=America/New_York:20251118T150000
DTEND;TZID=America/New_York:20251118T170000
DTSTAMP:20260420T042118
CREATED:20251113T210739Z
LAST-MODIFIED:20251113T210739Z
UID:10004037-1763478000-1763485200@www.rockportlibrary.net
SUMMARY:Fiber Arts
DESCRIPTION:Do you knit\, spin\, crochet\, embroider\, felt\, or practice other types of fiber arts? Would you like to work on your projects alongside other like-minded enthusiasts? This lively group is a great place to ask questions\, share tips\, and enjoy the company of other fiber artists. Meets on 1st\, 3rd\, and 5th Tuesdays (when there is a 5th Tuesday!) at 3:00 p.m. in the library’s lower level. New members are always welcome.
URL:https://www.rockportlibrary.net/event/fiber-arts-2/2025-11-18/
ATTACH;FMTTYPE=image/jpeg:https://www.rockportlibrary.net/wp-content/uploads/fiberartsgroup.jpg
END:VEVENT
BEGIN:VEVENT
DTSTART;TZID=America/New_York:20251118T100000
DTEND;TZID=America/New_York:20251118T113000
DTSTAMP:20260420T042118
CREATED:20250910T195828Z
LAST-MODIFIED:20250910T195829Z
UID:10001691-1763460000-1763465400@www.rockportlibrary.net
SUMMARY:Discussion Group
DESCRIPTION:This group is open to discussing all viewpoints and ideas. Topics are typically related to local\, national\, and global current events. This group meets every Tuesday at 10:00 AM for 60 to 90 minutes.
URL:https://www.rockportlibrary.net/event/discussion-group/2025-11-18/
LOCATION:Marine Room
CATEGORIES:Adults
ATTACH;FMTTYPE=image/jpeg:https://www.rockportlibrary.net/wp-content/uploads/discussiongroup-1.jpg
END:VEVENT
BEGIN:VEVENT
DTSTART;TZID=America/New_York:20251117T133000
DTEND;TZID=America/New_York:20251117T143000
DTSTAMP:20260420T042118
CREATED:20250910T201326Z
LAST-MODIFIED:20250910T202028Z
UID:10003394-1763386200-1763389800@www.rockportlibrary.net
SUMMARY:French Conversation Group
DESCRIPTION:Parlez-vous français? Practice your French with friends and neighbors who are also fluent speakers. This group meets every Monday and Friday at 1:30 PM for approximately 60 min.
URL:https://www.rockportlibrary.net/event/french-conversation-group/2025-11-17/
LOCATION:Marine Room
CATEGORIES:Adults
ATTACH;FMTTYPE=image/jpeg:https://www.rockportlibrary.net/wp-content/uploads/frenchgroup-1.jpg
END:VEVENT
BEGIN:VEVENT
DTSTART;TZID=America/New_York:20251115T103000
DTEND;TZID=America/New_York:20251115T113000
DTSTAMP:20260420T042118
CREATED:20251021T180245Z
LAST-MODIFIED:20251021T180928Z
UID:10003940-1763202600-1763206200@www.rockportlibrary.net
SUMMARY:Tween 'No Bake" Culinary Class
DESCRIPTION:A hands-on program that teaches tweens how to make delicious recipes without an oven! This month we will be making No-Bake Caramel Treats for the Thanksgiving season!Ideal for ages 11-16. Free.Space is limited. Call 236-3642 to sign up.
URL:https://www.rockportlibrary.net/event/tween-no-bake-culinary-class/
CATEGORIES:Kids & Family
ATTACH;FMTTYPE=image/png:https://www.rockportlibrary.net/wp-content/uploads/add-a-heading-13-2.png
END:VEVENT
BEGIN:VEVENT
DTSTART;TZID=America/New_York:20251114T133000
DTEND;TZID=America/New_York:20251114T143000
DTSTAMP:20260420T042118
CREATED:20250910T201326Z
LAST-MODIFIED:20250910T202028Z
UID:10002870-1763127000-1763130600@www.rockportlibrary.net
SUMMARY:French Conversation Group
DESCRIPTION:Parlez-vous français? Practice your French with friends and neighbors who are also fluent speakers. This group meets every Monday and Friday at 1:30 PM for approximately 60 min.
URL:https://www.rockportlibrary.net/event/french-conversation-group/2025-11-14/
LOCATION:Marine Room
CATEGORIES:Adults
ATTACH;FMTTYPE=image/jpeg:https://www.rockportlibrary.net/wp-content/uploads/frenchgroup-1.jpg
END:VEVENT
BEGIN:VEVENT
DTSTART;TZID=America/New_York:20251114T100000
DTEND;TZID=America/New_York:20251114T113000
DTSTAMP:20260420T042118
CREATED:20250910T200301Z
LAST-MODIFIED:20250910T200302Z
UID:10002215-1763114400-1763119800@www.rockportlibrary.net
SUMMARY:Mahjong
DESCRIPTION:Mahjong or mah-jongg (English pronunciation: mah-JONG) is a tile-based game that was developed in the 19th century in China and has spread throughout the world since the early 20th century. It is commonly played by four players (with some three-player variations). This group meets on Fridays\, at 10:00 AM for approximately 90-120 minutes.
URL:https://www.rockportlibrary.net/event/mahjong/2025-11-14/
LOCATION:Rockport Room (Lower Level)
CATEGORIES:Adults
ATTACH;FMTTYPE=image/jpeg:https://www.rockportlibrary.net/wp-content/uploads/mahjonggroup-1.jpg
END:VEVENT
BEGIN:VEVENT
DTSTART;TZID=America/New_York:20251113T160000
DTEND;TZID=America/New_York:20251113T170000
DTSTAMP:20260420T042118
CREATED:20250910T201103Z
LAST-MODIFIED:20251113T211300Z
UID:10003659-1763049600-1763053200@www.rockportlibrary.net
SUMMARY:Tech Help Hour
DESCRIPTION:Just drop in during our Tech Help Hour\, and a staff member will assist you with whatever your tech needs are. We can help with anything from basic computer questions to using your IPad with the Maine Download Library. This free service is offered every Thursday at 4:00 PM.
URL:https://www.rockportlibrary.net/event/tech-help-hour/2025-11-13/
LOCATION:Marine Room
CATEGORIES:Adults
ATTACH;FMTTYPE=image/jpeg:https://www.rockportlibrary.net/wp-content/uploads/tech-help.jpg
END:VEVENT
BEGIN:VEVENT
DTSTART;TZID=America/New_York:20251113T130000
DTEND;TZID=America/New_York:20251113T150000
DTSTAMP:20260420T042118
CREATED:20250910T195524Z
LAST-MODIFIED:20250910T195525Z
UID:10001428-1763038800-1763046000@www.rockportlibrary.net
SUMMARY:Bridge
DESCRIPTION:Stop by to play this fun and challenging classic card game. Players of all levels are welcome. This group meets on Thursdays\, at 1:00 PM.
URL:https://www.rockportlibrary.net/event/bridge/2025-11-13/
CATEGORIES:Adults
ATTACH;FMTTYPE=image/jpeg:https://www.rockportlibrary.net/wp-content/uploads/bridgegroup-1.jpg
END:VEVENT
BEGIN:VEVENT
DTSTART;TZID=America/New_York:20251113T100000
DTEND;TZID=America/New_York:20251113T110000
DTSTAMP:20260420T042118
CREATED:20251021T181720Z
LAST-MODIFIED:20251021T183435Z
UID:10003941-1763028000-1763031600@www.rockportlibrary.net
SUMMARY:Music Together®
DESCRIPTION:Music Together® is 45-minute early childhood music and movement class through the Midcoast Music Academy\, is for ages 0 through 5 with caregiver(s).  Free. Open to all families.
URL:https://www.rockportlibrary.net/event/music-together/
CATEGORIES:Kids & Family
ATTACH;FMTTYPE=image/png:https://www.rockportlibrary.net/wp-content/uploads/music-together-fb-3-2.png
END:VEVENT
BEGIN:VEVENT
DTSTART;TZID=America/New_York:20251112T180000
DTEND;TZID=America/New_York:20251112T190000
DTSTAMP:20260420T042118
CREATED:20251014T211356Z
LAST-MODIFIED:20251014T212415Z
UID:10003933-1762970400-1762974000@www.rockportlibrary.net
SUMMARY:Zimbabwe: The Land\, The People\, The Faith; A Journey of Beauty\,  Struggle\, and Hope
DESCRIPTION:On Wednesday\, November 12\, at 6 p.m. the Rockport Public Library will host midcoast resident Lindelinkosi Nyoni for an inspiring presentation that takes audiences on a visual journey through Zimbabwe’s beauty\, culture\, and resilient spirit. \n\n\n\nFrom the grandeur of the Victoria Falls\, to the warmth of its villages\, attendees will experience the story of a nation shaped by faith\, endurance\, and hope. Through powerful stories\, vivid photos\, and reflections of faith\, Nyoni will illustrate how the people of Zimbabwe continue to rise above challenges through their courage and grace. \n\n\n\nLindelinkosi Nyoni serves as a missionary pastor based in Camden\, Maine\, where he works with four churches. His journey from a career in electrical engineering to full-time pastoral work reflects a deep commitment to people\, purpose\, and personal growth. With experience spanning Africa\, North America\, South America\, Asia\, and the South Pacific\, Nyoni brings a global perspective to his work. He is passionate about inspiring others through meaningful storytelling\, teaching\, and service\, helping individuals and communities find hope\, resilience\, and direction in a complex world.
URL:https://www.rockportlibrary.net/event/zimbabwe-the-land-the-people-the-faith-a-journey-of-beauty-struggle-and-hope/
CATEGORIES:Adults
ATTACH;FMTTYPE=image/jpeg:https://www.rockportlibrary.net/wp-content/uploads/zimbabwe-fb-event.jpg
END:VEVENT
BEGIN:VEVENT
DTSTART;TZID=America/New_York:20251111T100000
DTEND;TZID=America/New_York:20251111T113000
DTSTAMP:20260420T042118
CREATED:20251113T190659Z
LAST-MODIFIED:20251113T190705Z
UID:10001690-1762855200-1762860600@www.rockportlibrary.net
SUMMARY:Discussion Group
DESCRIPTION:This group is open to discussing all viewpoints and ideas. Topics are typically related to local\, national\, and global current events. This group meets every Tuesday at 10:00 AM for 60 to 90 minutes.
URL:https://www.rockportlibrary.net/event/discussion-group-3/
LOCATION:Marine Room
CATEGORIES:Adults
ATTACH;FMTTYPE=image/jpeg:https://www.rockportlibrary.net/wp-content/uploads/discussiongroup-1.jpg
END:VEVENT
BEGIN:VEVENT
DTSTART;TZID=America/New_York:20251111T093000
DTEND;TZID=America/New_York:20251111T173000
DTSTAMP:20260420T042118
CREATED:20251103T221621Z
LAST-MODIFIED:20251103T221622Z
UID:10003951-1762853400-1762882200@www.rockportlibrary.net
SUMMARY:CLOSED FOR VETERANS DAY
DESCRIPTION:The Rockport Public Library will be CLOSED on Tuesday\, November 11 in honor of Veterans Day. We will reopen for regular operating hours and programs on Wednesday\, November 12. The staff of the Rockport Library sends our sincere gratitude to all who have served.
URL:https://www.rockportlibrary.net/event/closed-for-veterans-day/
CATEGORIES:Adults,Kids & Family,Tweens & Teens
ATTACH;FMTTYPE=image/jpeg:https://www.rockportlibrary.net/wp-content/uploads/closed-sign-2.jpg
END:VEVENT
BEGIN:VEVENT
DTSTART;TZID=America/New_York:20251110T133000
DTEND;TZID=America/New_York:20251110T143000
DTSTAMP:20260420T042118
CREATED:20250910T201326Z
LAST-MODIFIED:20250910T202028Z
UID:10003393-1762781400-1762785000@www.rockportlibrary.net
SUMMARY:French Conversation Group
DESCRIPTION:Parlez-vous français? Practice your French with friends and neighbors who are also fluent speakers. This group meets every Monday and Friday at 1:30 PM for approximately 60 min.
URL:https://www.rockportlibrary.net/event/french-conversation-group/2025-11-10/
LOCATION:Marine Room
CATEGORIES:Adults
ATTACH;FMTTYPE=image/jpeg:https://www.rockportlibrary.net/wp-content/uploads/frenchgroup-1.jpg
END:VEVENT
BEGIN:VEVENT
DTSTART;TZID=America/New_York:20251107T133000
DTEND;TZID=America/New_York:20251107T143000
DTSTAMP:20260420T042118
CREATED:20250910T201326Z
LAST-MODIFIED:20250910T202028Z
UID:10002869-1762522200-1762525800@www.rockportlibrary.net
SUMMARY:French Conversation Group
DESCRIPTION:Parlez-vous français? Practice your French with friends and neighbors who are also fluent speakers. This group meets every Monday and Friday at 1:30 PM for approximately 60 min.
URL:https://www.rockportlibrary.net/event/french-conversation-group/2025-11-07/
LOCATION:Marine Room
CATEGORIES:Adults
ATTACH;FMTTYPE=image/jpeg:https://www.rockportlibrary.net/wp-content/uploads/frenchgroup-1.jpg
END:VEVENT
BEGIN:VEVENT
DTSTART;TZID=America/New_York:20251107T100000
DTEND;TZID=America/New_York:20251107T113000
DTSTAMP:20260420T042118
CREATED:20250910T200301Z
LAST-MODIFIED:20250910T200302Z
UID:10002214-1762509600-1762515000@www.rockportlibrary.net
SUMMARY:Mahjong
DESCRIPTION:Mahjong or mah-jongg (English pronunciation: mah-JONG) is a tile-based game that was developed in the 19th century in China and has spread throughout the world since the early 20th century. It is commonly played by four players (with some three-player variations). This group meets on Fridays\, at 10:00 AM for approximately 90-120 minutes.
URL:https://www.rockportlibrary.net/event/mahjong/2025-11-07/
LOCATION:Rockport Room (Lower Level)
CATEGORIES:Adults
ATTACH;FMTTYPE=image/jpeg:https://www.rockportlibrary.net/wp-content/uploads/mahjonggroup-1.jpg
END:VEVENT
BEGIN:VEVENT
DTSTART;TZID=America/New_York:20251106T160000
DTEND;TZID=America/New_York:20251106T171500
DTSTAMP:20260420T042118
CREATED:20250910T200659Z
LAST-MODIFIED:20250910T202830Z
UID:10002608-1762444800-1762449300@www.rockportlibrary.net
SUMMARY:Poets' Corner
DESCRIPTION:The Rockport Public Library Poets’ Corner is a welcoming group of local poets of all ages and backgrounds. Email Bill Eberle at bill@wcedesign.com for more information. This group meets on 1st and 3rd Thursdays\, at 4:00 PM for approximately 60-90 minutes. Learn more about other poetry events in the area on the Midcoast Poetry Calendar: midcoastpoetrycalendar.com
URL:https://www.rockportlibrary.net/event/poets-corner/2025-11-06/
LOCATION:Marine Room
CATEGORIES:Adults
ATTACH;FMTTYPE=image/jpeg:https://www.rockportlibrary.net/wp-content/uploads/poetscorner_june2023sm-1.jpg
END:VEVENT
BEGIN:VEVENT
DTSTART;TZID=America/New_York:20251106T160000
DTEND;TZID=America/New_York:20251106T170000
DTSTAMP:20260420T042118
CREATED:20250910T201103Z
LAST-MODIFIED:20251113T211300Z
UID:10003658-1762444800-1762448400@www.rockportlibrary.net
SUMMARY:Tech Help Hour
DESCRIPTION:Just drop in during our Tech Help Hour\, and a staff member will assist you with whatever your tech needs are. We can help with anything from basic computer questions to using your IPad with the Maine Download Library. This free service is offered every Thursday at 4:00 PM.
URL:https://www.rockportlibrary.net/event/tech-help-hour/2025-11-06/
LOCATION:Marine Room
CATEGORIES:Adults
ATTACH;FMTTYPE=image/jpeg:https://www.rockportlibrary.net/wp-content/uploads/tech-help.jpg
END:VEVENT
BEGIN:VEVENT
DTSTART;TZID=America/New_York:20251106T130000
DTEND;TZID=America/New_York:20251106T150000
DTSTAMP:20260420T042118
CREATED:20250910T195524Z
LAST-MODIFIED:20250910T195525Z
UID:10001427-1762434000-1762441200@www.rockportlibrary.net
SUMMARY:Bridge
DESCRIPTION:Stop by to play this fun and challenging classic card game. Players of all levels are welcome. This group meets on Thursdays\, at 1:00 PM.
URL:https://www.rockportlibrary.net/event/bridge/2025-11-06/
CATEGORIES:Adults
ATTACH;FMTTYPE=image/jpeg:https://www.rockportlibrary.net/wp-content/uploads/bridgegroup-1.jpg
END:VEVENT
BEGIN:VEVENT
DTSTART;TZID=America/New_York:20251105T180000
DTEND;TZID=America/New_York:20251105T190000
DTSTAMP:20260420T042118
CREATED:20251017T191506Z
LAST-MODIFIED:20251017T210925Z
UID:10003939-1762365600-1762369200@www.rockportlibrary.net
SUMMARY:Author Event with Barbara Kent Lawrence for "Both Sides of the Pond"
DESCRIPTION:On Wednesday\, Nov. 5\, at 6 p.m.\, the Rockport Public Library will host Maine author Barbara Kent Lawrence for an event introducing her new book\, Both Sides of the Pond — My Family’s War: 1933 – 1946. The presentation will incorporate artifacts and highlight the author’s “Ah-ha” moments while conducting background research. \n\n\n\nThe book tells the story of Lawrence’s mother Barbara Greene\, a young British actress who met Joe Kennedy\, Jr. (son of the American Ambassador) in January of 1939. Their relationship would lead to her emigrating to the United States and learning to pilot a plane. The book also cover the experiences of Lawrence’s uncle Kent (Barbara Green’s brother)\, his bitter retreat from Dunkirk when he left England in January 1940 to fight in France\, and his subsequent service on the frontlines in Cornwall\, North Africa\, Sicily\, and Burma. \n\n\n\nEvan Thomas\, author of two New York Times best-selling books\, including Road to Surrender states\, “Barbara Lawrence has given us an intimate\, harrowing\, and vivid portrait of two young people engulfed by a world war . . . For anyone who wants to know what it is really like to have your world turned upside down\, read this book and be shocked\, thrilled\, and moved.” \n\n\n\nBarbara Kent Lawrence earned a BA in anthropology from Bennington College\, an MA in sociology from New York University\, and an EdD from Boston University. She taught anthropology and history in a boys’ high school\, then cofounded and ran a real-estate and construction firm in Northeast Harbor\, Maine. After receiving her EdD.\, she taught writing and education courses at Northeastern and Lesley universities in Boston. Both Sides of the Pond is Lawrence’s ninth book.
URL:https://www.rockportlibrary.net/event/author-event-with-barbara-kent-lawerence-for-both-sides-of-the-pond/
CATEGORIES:Adults
ATTACH;FMTTYPE=image/jpeg:https://www.rockportlibrary.net/wp-content/uploads/both-sides-fb-event.jpg
END:VEVENT
BEGIN:VEVENT
DTSTART;TZID=America/New_York:20251104T093000
DTEND;TZID=America/New_York:20251104T173000
DTSTAMP:20260420T042118
CREATED:20251028T210858Z
LAST-MODIFIED:20251028T210859Z
UID:10003944-1762248600-1762277400@www.rockportlibrary.net
SUMMARY:CLOSED FOR VOTING
DESCRIPTION:The ROCKPORT PUBLIC LIBRARY will be the site for Town of Rockport residents to vote on Tuesday\, Nov. 4\, from 8 AM to 8PM. Voting will take place in the lower level of the library\, and the main level of the library will be CLOSED. \n\n\n\nFor more information about voting in Rockport\, including items on the ballot\, CLICK HERE.
URL:https://www.rockportlibrary.net/event/closed-for-voting/
CATEGORIES:Adults
ATTACH;FMTTYPE=image/jpeg:https://www.rockportlibrary.net/wp-content/uploads/closed-for-voting.jpg
END:VEVENT
END:VCALENDAR